BEGIN:VCALENDAR
VERSION:2.0
PRODID:-//Hornické muzeum Příbram - ECPv5.4.0//NONSGML v1.0//EN
CALSCALE:GREGORIAN
METHOD:PUBLISH
X-WR-CALNAME:Hornické muzeum Příbram
X-ORIGINAL-URL:https://www.muzeum-pribram.cz
X-WR-CALDESC:Akce na Hornické muzeum Příbram
BEGIN:VTIMEZONE
TZID:Europe/Prague
BEGIN:DAYLIGHT
TZOFFSETFROM:+0100
TZOFFSETTO:+0200
TZNAME:CEST
DTSTART:20260329T010000
END:DAYLIGHT
BEGIN:STANDARD
TZOFFSETFROM:+0200
TZOFFSETTO:+0100
TZNAME:CET
DTSTART:20261025T010000
END:STANDARD
END:VTIMEZONE
BEGIN:VEVENT
DTSTART;TZID=Europe/Prague:20260613T160000
DTEND;TZID=Europe/Prague:20261031T170000
DTSTAMP:20260425T124849
CREATED:20260416T150830Z
LAST-MODIFIED:20260416T150923Z
UID:9368-1781366400-1793466000@www.muzeum-pribram.cz
SUMMARY:Z historie Příbrami a báňské činnosti v díle Jana Čáky
DESCRIPTION:Výstava přiblíží na téměř třiceti panelech historii příbramského hornictví od pravěku po 2. polovinu 20. století v díle spisovatele\, grafika a znalce kraje Jana Čáky. Výstava bude slavnostně otevřena v sobotu 13. 6. v 16 hodin\, a to v rámci programu k příležitosti Setkání hornických měst. \nK vidění bude do 31. října\, a to vždy ve dnech sobota–neděle od 9 do 17 hodin. \n\nJan Čáka \n(* 12. 6. 1929 Praha † 2. 9. 2018 Příbram) \nVýtvarník a spisovatel \nKaždý člověk má svůj domov\, kraj\, který důvěrně zná a v němž se cítí dobře. Pro Jana Čáku byla tímto místem hornická Příbram\, jejímž čestným občanem se stal roku 2009\, a okolní Brdy s mnoha zajímavými lokalitami. Janu Čákovi vděčíme za ucelený a hluboce působivý obraz zdejší krajiny z hlediska zeměpisného\, historického\, etnografického\, uměleckého i z dalších směrů\, a také hornických tradic. V jeho díle se pak šťastně setkalo výtvarné nadání s uměním vypravěčským\, podněcovaným autorovým celoživotním zaujetím pro krásy minulosti i pro zachycení problémů přítomnosti.
URL:https://www.muzeum-pribram.cz/detail-akce/z-historie-pribrami-a-banske-cinnosti-v-dile-jana-caky/
LOCATION:Hornický skanzen Březové Hory – důl Anna\, Husova 274\, Příbram\, 26101
CATEGORIES:01 - Akce a výstavy
ATTACH;FMTTYPE=image/jpeg:https://www.muzeum-pribram.cz/wp-content/uploads/2026/04/12.-panel-Pribram-v-1.-polovine-19.-stoleti-scaled-e1776352102579.jpg
END:VEVENT
END:VCALENDAR