BEGIN:VCALENDAR
VERSION:2.0
PRODID:-//Hornické muzeum Příbram - ECPv5.4.0//NONSGML v1.0//EN
CALSCALE:GREGORIAN
METHOD:PUBLISH
X-WR-CALNAME:Hornické muzeum Příbram
X-ORIGINAL-URL:https://www.muzeum-pribram.cz
X-WR-CALDESC:Akce na Hornické muzeum Příbram
BEGIN:VTIMEZONE
TZID:Europe/Prague
BEGIN:DAYLIGHT
TZOFFSETFROM:+0100
TZOFFSETTO:+0200
TZNAME:CEST
DTSTART:20260329T010000
END:DAYLIGHT
BEGIN:STANDARD
TZOFFSETFROM:+0200
TZOFFSETTO:+0100
TZNAME:CET
DTSTART:20261025T010000
END:STANDARD
END:VTIMEZONE
BEGIN:VEVENT
DTSTART;TZID=Europe/Prague:20260526T090000
DTEND;TZID=Europe/Prague:20260712T180000
DTSTAMP:20260425T125240
CREATED:20260319T072556Z
LAST-MODIFIED:20260319T072556Z
UID:9246-1779786000-1783879200@www.muzeum-pribram.cz
SUMMARY:Výstava Poklad z Hrachova
DESCRIPTION:Na konci roku 2018 našel p. Daniel Drahuský u Hrachova na Sedlčansku poklad mincí. Poklad 972 kusů stříbrných a měděných mincí obsahuje oběživo z 15. až 17. století\, většina z nich pak pochází z let 1620-22. Nejvíce jsou zastoupeny ražby německé a české\, ojediněle pak Benátské republiky či Švédského království. Podle zastoupení nejmladších mincí byl depot do země uložen v r. 1622. \nVe dnech 26. května až 12. července tohoto roku bude mít široká veřejnost možnost se s tímto nálezem seznámit. Vystaveno bude několik desítek vybraných mincí\, doprovázených textovými a obrazovými informacemi. Zájemci si pak mohou zakoupit monografii s podrobnějšími informacemi po stránce numismatické\, archeologické a historické. \nNález z Hrachova unikátně dokumentuje složitou finanční situaci na začátku třicetileté války\, kdy vrcholila ohromná inflace a znehodnocení stříbrné mince v rámci širší střední Evropy.
URL:https://www.muzeum-pribram.cz/detail-akce/vystava-poklad-z-hrachova/
LOCATION:Hornický skanzen Březové Hory – důl Vojtěch\, Husova 29\, Příbram\, 26101
CATEGORIES:01 - Akce a výstavy
ATTACH;FMTTYPE=image/jpeg:https://www.muzeum-pribram.cz/wp-content/uploads/2026/03/Obalka-knihy-uvod.jpg
END:VEVENT
END:VCALENDAR