BEGIN:VCALENDAR
VERSION:2.0
PRODID:-//Hornické muzeum Příbram - ECPv5.4.0//NONSGML v1.0//EN
CALSCALE:GREGORIAN
METHOD:PUBLISH
X-WR-CALNAME:Hornické muzeum Příbram
X-ORIGINAL-URL:https://www.muzeum-pribram.cz
X-WR-CALDESC:Akce na Hornické muzeum Příbram
BEGIN:VTIMEZONE
TZID:Europe/Prague
BEGIN:DAYLIGHT
TZOFFSETFROM:+0100
TZOFFSETTO:+0200
TZNAME:CEST
DTSTART:20250330T010000
END:DAYLIGHT
BEGIN:STANDARD
TZOFFSETFROM:+0200
TZOFFSETTO:+0100
TZNAME:CET
DTSTART:20251026T010000
END:STANDARD
END:VTIMEZONE
BEGIN:VEVENT
DTSTART;TZID=Europe/Prague:20250417T100000
DTEND;TZID=Europe/Prague:20250420T170000
DTSTAMP:20260425T143134
CREATED:20250127T123917Z
LAST-MODIFIED:20260331T204930Z
UID:7614-1744884000-1745168400@www.muzeum-pribram.cz
SUMMARY:Velikonoce ve skanzenu – program pro veřejnost
DESCRIPTION:Zvyky a tradice středního Povltaví ožijí během velikonočního programu ve dnech 17. – 20. dubna 2025 (čtvrtek–neděle). V historických interiérech chalup si ozdobíte kraslice\, upečete jidáše\, naučíte se plést pomlázku nebo si vyrobíte si píšťalku. Dále se zde během svátečních dnů postupně vystřídá celá řada tradičních řemesel a činností – výroba ošatek\, pečení mazanců v peci\, smažení božích milostí\, výroba sýrů\, vázání košťat z březových větviček. Svůj um předvede i košíkář\, provazník\, dráteník nebo kovář a každou celou hodinu bude ukázka provozu mlýna a řezání klád na historickém katru. \nNa děti mezi chalupami a na zápražích čekají zábavné úkoly spojené s tradičními velikonočními zvyky. V areálu se můžete také občerstvit nebo si zakoupit keramické výrobky. \nZákladní vstupné 100 Kč\, snížené 60 Kč\, rodinné 250 Kč. V těchto dnech probíhají pouze volné prohlídky skanzenu\, bez průvodce. \n  \n  \n\n		\n		\n			\n				\n			\n			\n				\n			\n			\n				\n			\n			\n				\n			\n			\n				\n			\n			\n				\n			\n			\n				\n			\n			\n				\n			\n		\n\n\nPodrobný program na jednotlivé dny:\nČtvrtek 17. 4. \n– pletení pomlázek\, zdobení vajec voskem a sítinou\n– jidáše a boží milosti\n– drátování\, výroba píšťalek a ošatek\n– kovář a košíkář\n– zookoutek pro děti \n  \nPátek 18. 4. \n– pletení pomlázek\, zdobení vajec voskem a sítinou\n– jidáše\, boží milosti a mazance\n– drátování\, výroba píšťalek a ošatek\n– kovář a košíkář \n  \nSobota 19. 4. \n– pletení pomlázek\, zdobení vajec voskem a sítinou\n– jidáše a mazance\n– drátování\, výroba píšťalek\, výroba\, ošatek a košťat\n– kovář a košíkář \n  \nNeděle 20. 4. \n– pletení pomlázek\, zdobení vajec voskem a sítinou\n– pečení jidášů\, výroba sýrů\n– drátování\, výroba píšťalek\, ošatek a košťat\n– kovář a provazník\n– odpolední program bude obohacen o muziku: harmonika a dechové nástroje
URL:https://www.muzeum-pribram.cz/detail-akce/velikonoce-ve-skanzenu-2025/
LOCATION:Skanzen Vysoký Chlumec\, Vysoký Chlumec\, 26252
CATEGORIES:01 - Akce a výstavy
ATTACH;FMTTYPE=image/jpeg:https://www.muzeum-pribram.cz/wp-content/uploads/2023/01/Velikonoce-ve-Skanzenu-Vysoky-Chlumec-6.jpg
END:VEVENT
END:VCALENDAR