BEGIN:VCALENDAR
VERSION:2.0
PRODID:-//Hornické muzeum Příbram - ECPv5.4.0//NONSGML v1.0//EN
CALSCALE:GREGORIAN
METHOD:PUBLISH
X-WR-CALNAME:Hornické muzeum Příbram
X-ORIGINAL-URL:https://www.muzeum-pribram.cz
X-WR-CALDESC:Akce na Hornické muzeum Příbram
BEGIN:VTIMEZONE
TZID:Europe/Prague
BEGIN:DAYLIGHT
TZOFFSETFROM:+0100
TZOFFSETTO:+0200
TZNAME:CEST
DTSTART:20240331T010000
END:DAYLIGHT
BEGIN:STANDARD
TZOFFSETFROM:+0200
TZOFFSETTO:+0100
TZNAME:CET
DTSTART:20241027T010000
END:STANDARD
END:VTIMEZONE
BEGIN:VEVENT
DTSTART;TZID=Europe/Prague:20240601T090000
DTEND;TZID=Europe/Prague:20240601T170000
DTSTAMP:20260425T181958
CREATED:20240508T154207Z
LAST-MODIFIED:20240602T091951Z
UID:6172-1717232400-1717261200@www.muzeum-pribram.cz
SUMMARY:ToulavaFest
DESCRIPTION:V roce 2024 zavítá Toulava Fest do městysu Vysoký Chlumec. Akce se uskuteční v rámci tradiční pouti a to v sobotu 1. 6. 2024. \n\nProgram ve skanzenu: \nV obytném domě z Obděnic bude instalována výstava fotografií Milana Dlouhého pod názvem Krajina Sedlčanska. Výstavu můžete navštívit od 1. do 6. června. \nSedlčanský divadelní spolek Našlose uvede listování knihou „Až na ten konec dobrý“. Dílo\, které je humorným románem o smrti\, získalo Cenu čtenářů Magnesia Litera 2022. Listování je doplněné hudbou písničkářky Radůzy. Vystupují členky spolku Jana Roškotová a Jitka Jandová. Představení začne v 16 hodin ve stodole z Podolí. \nVe skanzenu můžete rovněž nakoupit regionální produkty Toulava: šité šperky Markéty Bakulové\, vinuté perly Ivany Stoupové\, keramiku Lenky Mrázové\, dekorace a hračky chráněné dílny Villa Vallila\, ocelové šperky Lenky Barčiové\, květiny Dany Skokanové a dále košíkářské výrobky Davida Čížka. \nTento den je vstup na volnou prohlídku areálu skanzenu za symbolickou 1 Kč\, vstupenky na komentované prohlídky jsou za 100 Kč / 60 Kč. \n\nInformace k dopravě na místo a parkování: \nDo neděle 2. 6. včetně je v obci uzavírka. Na mapě zde najdete trasu\, kterou se dá projet. Bod 14 představuje parkoviště\, které doporučujeme využít. \n\nProgram v areálu velkostatku na návsi ve Vysokém Chlumci: \nAreál je otevřený od 10:00\, kulturní program začíná v 11:00. \nPřipraveno bude občerstvení\, navštívit můžete i pouťové atrakce lunaparku pana Lagrona umístěné na návsi vedle statku. \nPo dobu konání akce sledujte aktuální dopravní omezení. Návštěvníci budou moct využít záchytné parkoviště. \n\n\n\n\nNa pódiu se během dne přestaví Žáci ZUŠ Sedlec – Prčice\, Soubor dechových nástrojů REDBAND\, Žáci ZUŠ Sedlčany – dětský pěvecký soubor Zábojáček\, Divadelní soubor NAŠLO SE\, Taneční soubor SLIMKA\, Karolína Moščovičová\, skupina REPETE\, BLUE ORCHESTRA\, THE BEAUTIFULS\, hudební uskupení EPYDEMYE\, Bárka\, Daniel a Kateřina ŠtruncoviZapojit se můžete také do soutěže o nejlepší pouťový koláč\, kterou budou posuzovat Ivan Vodochodský a Lucie Polišenská. Po skončení programu můžete relaxovat a užít si DJ Jirky Neumana s jeho hity 80. a 90. let. A nezapomeňte navštívit pouťové atrakce umístěné na návsi vedle statku. \nVstup na kulturní program konaný v prostorách velkostatku je ZDARMA. \nAkce je realizována s finančním přispěním Středočeského kraje\, z Fondu hejtmanky. \n\n  \n 
URL:https://www.muzeum-pribram.cz/detail-akce/toulavafest/
LOCATION:Skanzen Vysoký Chlumec\, Vysoký Chlumec\, 26252
CATEGORIES:01 - Akce a výstavy
ATTACH;FMTTYPE=image/jpeg:https://www.muzeum-pribram.cz/wp-content/uploads/2024/05/9-ToulavaFest.jpg
END:VEVENT
END:VCALENDAR