BEGIN:VCALENDAR
VERSION:2.0
PRODID:-//Hornické muzeum Příbram - ECPv5.4.0//NONSGML v1.0//EN
CALSCALE:GREGORIAN
METHOD:PUBLISH
X-WR-CALNAME:Hornické muzeum Příbram
X-ORIGINAL-URL:https://www.muzeum-pribram.cz
X-WR-CALDESC:Akce na Hornické muzeum Příbram
BEGIN:VTIMEZONE
TZID:Europe/Prague
BEGIN:DAYLIGHT
TZOFFSETFROM:+0100
TZOFFSETTO:+0200
TZNAME:CEST
DTSTART:20260329T010000
END:DAYLIGHT
BEGIN:STANDARD
TZOFFSETFROM:+0200
TZOFFSETTO:+0100
TZNAME:CET
DTSTART:20261025T010000
END:STANDARD
END:VTIMEZONE
BEGIN:VEVENT
DTSTART;TZID=Europe/Prague:20260613T090000
DTEND;TZID=Europe/Prague:20260614T233000
DTSTAMP:20260425T124450
CREATED:20260319T133218Z
LAST-MODIFIED:20260319T133230Z
UID:9250-1781341200-1781479800@www.muzeum-pribram.cz
SUMMARY:Setkání hornických měst
DESCRIPTION:Největší událostí roku 2026 v Příbrami a jejím okolí bude 19. Evropský den horníků a hutníků a 30. Setkání hornických měst a obcí ČR\, které se uskuteční ve dnech 12.–14. června. Při této příležitosti projdou městem velkolepé průvody horníků a hutníků z celé Evropy. Část hlavního programu se odehraje v Hornickém muzeu Příbram\, kde bude zároveň slavnostně otevřena výstava věnovaná historii Příbrami a zdejšího hornictví v díle grafika\, spisovatele a znalce kraje Jana Čáky. \n\nSobota 13. června – hlavní body programu (časy jsou orientační): \n9:00–18:00 Program na Březových Horách a ve všech areálech Hornického muzea Příbram \n11:00–12:30 Velká hornická paráda (průvod) na náměstí T. G. Masaryka \n12:30–13:30 Slavnostní ceremoniál na náměstí T. G. Masaryka \n15:15 Průvod z nádvoří Ševčinského dolu k dolu Anna \n16:00 Středověká hornická vesnice s ukázkami řemesel a rýžováním zlata\, slavnostní zpřístupnění výstavy „Z historie Příbrami a báňské činnosti v díle Jana Čáky“ \n18:00 Předávání ocenění Český Permon v kostele sv. Vojtěcha \n17:00–0:00 Kulturní program na náměstí J. A. Alise a v areálu dolu Marie \n 
URL:https://www.muzeum-pribram.cz/detail-akce/setkani-hornickych-mest/
LOCATION:Hornický skanzen Březové Hory\, Třemošenská 293\, Příbram\, Česká republika
CATEGORIES:01 - Akce a výstavy
ATTACH;FMTTYPE=image/jpeg:https://www.muzeum-pribram.cz/wp-content/uploads/2026/03/Prokopska-pout-4-scaled.jpg
END:VEVENT
END:VCALENDAR