BEGIN:VCALENDAR
VERSION:2.0
PRODID:-//Hornické muzeum Příbram - ECPv5.4.0//NONSGML v1.0//EN
CALSCALE:GREGORIAN
METHOD:PUBLISH
X-WR-CALNAME:Hornické muzeum Příbram
X-ORIGINAL-URL:https://www.muzeum-pribram.cz
X-WR-CALDESC:Akce na Hornické muzeum Příbram
BEGIN:VTIMEZONE
TZID:Europe/Prague
BEGIN:DAYLIGHT
TZOFFSETFROM:+0100
TZOFFSETTO:+0200
TZNAME:CEST
DTSTART:20250330T010000
END:DAYLIGHT
BEGIN:STANDARD
TZOFFSETFROM:+0200
TZOFFSETTO:+0100
TZNAME:CET
DTSTART:20251026T010000
END:STANDARD
END:VTIMEZONE
BEGIN:VEVENT
DTSTART;TZID=Europe/Prague:20250706T090000
DTEND;TZID=Europe/Prague:20250706T180000
DTSTAMP:20260425T142959
CREATED:20250321T154501Z
LAST-MODIFIED:20260319T141902Z
UID:7795-1751792400-1751824800@www.muzeum-pribram.cz
SUMMARY:Prokopská pouť
DESCRIPTION:O víkendu 5. 7.–6. 7. 2025 se v Příbrami koná tradiční Prokopská pouť. Hornické muzeum Příbram se k jejímu programu připojí v neděli 6. 7. \nKulturní program v areálu Ševčinského dolu začne ve 14 hodin\, jeho hlavním tématem bude výročí 150 let světového prvenství v dosažení hloubky 1000 m za pomoci jednoho těžního lana v dole Vojtěch roku 1875. Vystoupí Divadlo Tomáše Bílka a šermířský spolek Adorea. \nVstup do jednotlivých expozic včetně fárání do podzemí Hornického muzea Příbram bude po celý den za symbolickou 1 Kč. Muzeum bude otevřeno od 9 do 18 hodin. \n\n\n\n\nJedná se o největší a nejslavnější českou hornickou pouť\, kterou každoročně doprovázejí různá kulturní vystoupení\, kostýmované průvody\, dobové scénky\, pouťové atrakce a staročeské trhy.
URL:https://www.muzeum-pribram.cz/detail-akce/prokopska-pout-2025/
LOCATION:Hornický skanzen Březové Hory\, Třemošenská 293\, Příbram\, Česká republika
CATEGORIES:01 - Akce a výstavy
ATTACH;FMTTYPE=image/jpeg:https://www.muzeum-pribram.cz/wp-content/uploads/2023/02/Prokopska-pout-1-Bm-e1687247034521.jpg
END:VEVENT
END:VCALENDAR