BEGIN:VCALENDAR
VERSION:2.0
PRODID:-//Hornické muzeum Příbram - ECPv5.4.0//NONSGML v1.0//EN
CALSCALE:GREGORIAN
METHOD:PUBLISH
X-WR-CALNAME:Hornické muzeum Příbram
X-ORIGINAL-URL:https://www.muzeum-pribram.cz
X-WR-CALDESC:Akce na Hornické muzeum Příbram
BEGIN:VTIMEZONE
TZID:Europe/Prague
BEGIN:DAYLIGHT
TZOFFSETFROM:+0100
TZOFFSETTO:+0200
TZNAME:CEST
DTSTART:20260329T010000
END:DAYLIGHT
BEGIN:STANDARD
TZOFFSETFROM:+0200
TZOFFSETTO:+0100
TZNAME:CET
DTSTART:20261025T010000
END:STANDARD
END:VTIMEZONE
BEGIN:VEVENT
DTSTART;TZID=Europe/Prague:20260522T190000
DTEND;TZID=Europe/Prague:20260522T220000
DTSTAMP:20260425T124850
CREATED:20260325T094037Z
LAST-MODIFIED:20260423T142731Z
UID:9287-1779476400-1779487200@www.muzeum-pribram.cz
SUMMARY:Koncert Jaroslava Hutky v Památníku Vojna
DESCRIPTION:Neobyčejný večerní program nabídne Muzejní noc v Památníku Vojna u Příbrami\, mrazivém mementu komunistické perzekuce. V pátek 22. května ožije tento bývalý vězeňský areál komentovanými prohlídkami\, které v nevšední večerní atmosféře přiblíží osudy politických vězňů. Program doplní promítání dokumentů\, zlatým hřebem večera bude v 19 hodin koncert písničkáře Jaroslava Hutky\, ikony boje za svobodu a demokracii. \nDetailní program a odkaz na předprodej zveřejníme na začátku května. \n\nO osudech Jaroslava Hutky pojednává jeden z dílů dokumentárního cyklu České televize „Příběhy železné opony“ – ke zhlédnutí zde:
URL:https://www.muzeum-pribram.cz/detail-akce/muzejni-noc-v-pamatniku-vojna/
LOCATION:Památník Vojna Lešetice\, Lešetice 52\, Lešetice\, Česká republika
CATEGORIES:01 - Akce a výstavy,05 - Titulní strana
ATTACH;FMTTYPE=image/jpeg:https://www.muzeum-pribram.cz/wp-content/uploads/2026/03/vojna_noc01-e1774431623578.jpg
END:VEVENT
END:VCALENDAR