BEGIN:VCALENDAR
VERSION:2.0
PRODID:-//Hornické muzeum Příbram - ECPv5.4.0//NONSGML v1.0//EN
CALSCALE:GREGORIAN
METHOD:PUBLISH
X-WR-CALNAME:Hornické muzeum Příbram
X-ORIGINAL-URL:https://www.muzeum-pribram.cz
X-WR-CALDESC:Akce na Hornické muzeum Příbram
BEGIN:VTIMEZONE
TZID:Europe/Prague
BEGIN:DAYLIGHT
TZOFFSETFROM:+0100
TZOFFSETTO:+0200
TZNAME:CEST
DTSTART:20260329T010000
END:DAYLIGHT
BEGIN:STANDARD
TZOFFSETFROM:+0200
TZOFFSETTO:+0100
TZNAME:CET
DTSTART:20261025T010000
END:STANDARD
END:VTIMEZONE
BEGIN:VEVENT
DTSTART;TZID=Europe/Prague:20260517T150000
DTEND;TZID=Europe/Prague:20260517T180000
DTSTAMP:20260425T124849
CREATED:20260410T152227Z
LAST-MODIFIED:20260410T152236Z
UID:9343-1779030000-1779040800@www.muzeum-pribram.cz
SUMMARY:Mezinárodní den muzeí: Geoparkem s novým průvodcem
DESCRIPTION:Novinkou letošní sezóny bude mobilní aplikace pro Geopark Brd a Podbrdska\, která zpestří a obohatí zážitek z návštěvy této nejnovější expozice. V geoparku\, situovaném ve venkovním areálu dolu Vojtěch\, muzeum prezentuje velkorozměrové vzorky místních typických hornin a geologických zvláštností z různých období starohor a prvohor. Vystaveny jsou mimo jiné i objemné ukázky zdejších typických rudních žil. Součástí geoparku je také tzv. „trilobitiště“ pocházející z nedalekého Jinecka\, kde si mohou návštěvníci vyzkoušet roli paleontologů. Aplikace nabídne dva režimy a přiblíží jak geologický vývoj\, tak historii těžby v regionu. \nSlavnostní představení aplikace proběhne v neděli 17. května v 15 hodin u příležitosti Mezinárodního dne muzeí\, a to v doprovodu dalšího tematického programu pro veřejnost.
URL:https://www.muzeum-pribram.cz/detail-akce/mezinarodni-den-muzei-geoparkem-s-novym-pruvodcem/
LOCATION:Hornický skanzen Březové Hory – důl Vojtěch\, Husova 29\, Příbram\, 26101
CATEGORIES:01 - Akce a výstavy,05 - Titulní strana
ATTACH;FMTTYPE=image/jpeg:https://www.muzeum-pribram.cz/wp-content/uploads/2024/04/2.-Geopark-pohled-do-casti-arealu.jpg
END:VEVENT
END:VCALENDAR