BEGIN:VCALENDAR
VERSION:2.0
PRODID:-//Hornické muzeum Příbram - ECPv5.4.0//NONSGML v1.0//EN
CALSCALE:GREGORIAN
METHOD:PUBLISH
X-WR-CALNAME:Hornické muzeum Příbram
X-ORIGINAL-URL:https://www.muzeum-pribram.cz
X-WR-CALDESC:Akce na Hornické muzeum Příbram
BEGIN:VTIMEZONE
TZID:Europe/Prague
BEGIN:DAYLIGHT
TZOFFSETFROM:+0100
TZOFFSETTO:+0200
TZNAME:CEST
DTSTART:20250330T010000
END:DAYLIGHT
BEGIN:STANDARD
TZOFFSETFROM:+0200
TZOFFSETTO:+0100
TZNAME:CET
DTSTART:20251026T010000
END:STANDARD
END:VTIMEZONE
BEGIN:VEVENT
DTSTART;TZID=Europe/Prague:20250608T180000
DTEND;TZID=Europe/Prague:20250608T193000
DTSTAMP:20260425T143445
CREATED:20250430T151242Z
LAST-MODIFIED:20260410T151056Z
UID:8107-1749405600-1749411000@www.muzeum-pribram.cz
SUMMARY:Koncert kapely Bárka a sboru Gambale
DESCRIPTION:Koncert kapely Bárka a sboru Gambale se odehraje v neděli 8. června 2025 od 18 hodin v neobyčejném prostředí šachetní budovy dolu Vojtěch. \nV repertoáru smíšeného sboru Gambale najdeme klasické kusy\, lidové písně\, spirituály a gospely\, ale i rockové skladby adaptované pro sborový zpěv. Kapelu Bárka tvoří violoncellista Pavel Barnáš s harfenistkou Ivanou Pokornou. Oba muzikanti působí desítky let v renomovaných profesionálních orchestrech. Ve své dvoučlenné kapele se zaměřují hlavně na evergreeny a filmové melodie\, které v neobvyklém spojení jejich nástrojů vyznívají velmi působivě. \nPředprodej probíhá od 3. června na pokladně dolu Vojtěch (Husova 29\, Příbram) během návštěvní doby muzea. \nAkce se koná v rámci festivalu Středočeské kulturní léto.
URL:https://www.muzeum-pribram.cz/detail-akce/koncert-kapely-barka-a-sboru-gambale-2025/
LOCATION:Hornický skanzen Březové Hory – důl Vojtěch\, Husova 29\, Příbram\, 26101
CATEGORIES:01 - Akce a výstavy
ATTACH;FMTTYPE=image/jpeg:https://www.muzeum-pribram.cz/wp-content/uploads/2025/04/DSC5977m.jpg
END:VEVENT
END:VCALENDAR