BEGIN:VCALENDAR
VERSION:2.0
PRODID:-//Hornické muzeum Příbram - ECPv5.4.0//NONSGML v1.0//EN
CALSCALE:GREGORIAN
METHOD:PUBLISH
X-WR-CALNAME:Hornické muzeum Příbram
X-ORIGINAL-URL:https://www.muzeum-pribram.cz
X-WR-CALDESC:Akce na Hornické muzeum Příbram
BEGIN:VTIMEZONE
TZID:Europe/Prague
BEGIN:DAYLIGHT
TZOFFSETFROM:+0100
TZOFFSETTO:+0200
TZNAME:CEST
DTSTART:20230326T010000
END:DAYLIGHT
BEGIN:STANDARD
TZOFFSETFROM:+0200
TZOFFSETTO:+0100
TZNAME:CET
DTSTART:20231029T010000
END:STANDARD
END:VTIMEZONE
BEGIN:VEVENT
DTSTART;TZID=Europe/Prague:20230227T073000
DTEND;TZID=Europe/Prague:20230301T170000
DTSTAMP:20260425T181328
CREATED:20230120T133113Z
LAST-MODIFIED:20230227T091112Z
UID:3215-1677483000-1677690000@www.muzeum-pribram.cz
SUMMARY:Jarní prázdniny: program pro děti plný zážitků
DESCRIPTION:Od pondělí 27. 2. do středy 1. 3. bude v Hornickém muzeu Příbram připraven program pro děti v rámci jarních prázdnin. Tři celodenní hry zavedou děti do expozic\, do podzemí i do okolí muzea\, kde budou hledat\, bádat\, tvořit a užívat si prázdninový čas plnými doušky. \nV pondělí bude cílem prozkoumat několik zajímavých míst na Březových Horách\, v úterý se podíváme do podzemí dolů Vojtěch a Anna\, ve středu se budeme věnovat tématu vody. \nDěti je možné přihlásit na jeden\, dva nebo tři dny\, a to na čísle 725 776 433 nebo e-mailu: fialova-j@muzeum-pribram.cz.\nCena za jedno dítě na jeden den 300 Kč\, za druhé a další dítě 200 Kč. \nProgram bude probíhat od 7:30 do 15:30. \nVšechna místa jsou obsazena\, na pondělní a středeční program ale přijímáme náhradníky. \n\nDalší informace k náplni jednotlivých dní: \nPondělí aneb Skrytá historie města. Skrytá před tím\, kdo se nemá čas dívat a objevovat. Vše\, čemu se budeme věnovat\, se bude točit kolem zajímavostí z historie města a jeho obyvatel. Využijeme expozici muzea\, vyhlídku z těžní budovy Ševčinského dolu\, projdeme malými uličkami i na kopec\, abychom získali informace pro rozluštění tajenky celodenní hry. V rámci zábavného tvoření vyzkoušíme napodobit výrobky řemeslníků\, kteří v našem městě žili a pracovali. \nÚterý aneb Tajemné podzemí. Dopoledne se sejdeme s kurátorem sbírky minerálů Mgr. Pavlem Škáchou\, Ph.D. nad poklady a zajímavostmi z hlubin místních dolů\, zkusíme nalézt vlastní vzorky minerálů a prozkoumáme podzemí dolu Vojtěch. Zkusíme vyrobit jednoduchý štufnverk\, zmenšenou napodobeninu prostředí dolu\, jako bychom byli havíři\, kteří si je vyráběli pro radost či přivýdělek. Odpoledne se vydáme do Prokopské štoly a tam také snad najdeme zbylé indicie pro celodenní hru. \nStředa aneb Živá voda. Voda je nejen místem pro život mnoha tvorů\, ale oživovala i mlýny\, katry a také důlní stroje\, které lidem ušetřily namáhavou práci. Proto se půjdeme podívat na technický unikát\, vodní kolo dolu Drkolnov\, navštívíme hasičskou expozici SDH Březové Hory\, dozvíme se zajímavosti z práce muzejního zoologa a ze světa zimujících obojživelníků a voda bude i ústředním prvkem našeho tvoření i celodenní hry. \nProgram se hodí pro děti\, které se rády dozvídají zajímavosti o světě kolem nás a není jim zatěžko strávit nějaký čas na procházce\, nebojí se výšky (pondělí\, středa) a v menších prostorách v podzemí (úterý\, středa). Na každý den jsou připravené i krátké zábavné hry a tvoření. \n\nNa program budou navazovat odpolední tvůrčí dílny (16:00–17:00) otevřené jak účastníkům tábora spolu s doprovodem\, tak i dalším návštěvníkům. Detaily o programu dílen zde. \n 
URL:https://www.muzeum-pribram.cz/detail-akce/jarni-prazdniny-program-pro-deti-plny-zazitku/
LOCATION:Hornický skanzen Březové Hory – důl Anna\, Husova 274\, Příbram\, 26101
CATEGORIES:01 - Akce a výstavy
ATTACH;FMTTYPE=image/jpeg:https://www.muzeum-pribram.cz/wp-content/uploads/2023/01/1n-scaled-e1674221423396.jpg
END:VEVENT
END:VCALENDAR