BEGIN:VCALENDAR
VERSION:2.0
PRODID:-//Hornické muzeum Příbram - ECPv5.4.0//NONSGML v1.0//EN
CALSCALE:GREGORIAN
METHOD:PUBLISH
X-WR-CALNAME:Hornické muzeum Příbram
X-ORIGINAL-URL:https://www.muzeum-pribram.cz
X-WR-CALDESC:Akce na Hornické muzeum Příbram
BEGIN:VTIMEZONE
TZID:Europe/Prague
BEGIN:DAYLIGHT
TZOFFSETFROM:+0100
TZOFFSETTO:+0200
TZNAME:CEST
DTSTART:20250330T010000
END:DAYLIGHT
BEGIN:STANDARD
TZOFFSETFROM:+0200
TZOFFSETTO:+0100
TZNAME:CET
DTSTART:20251026T010000
END:STANDARD
END:VTIMEZONE
BEGIN:VEVENT
DTSTART;TZID=Europe/Prague:20250412T090000
DTEND;TZID=Europe/Prague:20250412T170000
DTSTAMP:20260425T143736
CREATED:20250407T134449Z
LAST-MODIFIED:20260324T155711Z
UID:7858-1744448400-1744477200@www.muzeum-pribram.cz
SUMMARY:Do muzea s 50% slevou
DESCRIPTION:Hornické muzeum Příbram se v sobotu 12. 4. připojí k zahájení turistické sezóny města Příbram. Po celý den mohou návštěvníci využít 50% slevy na základní vstupné pro dospělé osoby do expozic i podzemí. Akce platí pouze pro příbramské areály Ševčinský důl\, důl Anna a důl Vojtěch. \nV tento den můžete navíc zavítat na akci Velikonoce v hornickém domku (za standardní vstupné 60 Kč).
URL:https://www.muzeum-pribram.cz/detail-akce/do-muzea-s-50-slevou-2025/
LOCATION:Hornický skanzen Březové Hory\, Třemošenská 293\, Příbram\, Česká republika
CATEGORIES:01 - Akce a výstavy
ATTACH;FMTTYPE=image/jpeg:https://www.muzeum-pribram.cz/wp-content/uploads/2023/03/Dvojice_turistu_Cervenec_2022-402-1-e1680282493496.jpg
END:VEVENT
END:VCALENDAR