BEGIN:VCALENDAR
VERSION:2.0
PRODID:-//Hornické muzeum Příbram - ECPv5.4.0//NONSGML v1.0//EN
CALSCALE:GREGORIAN
METHOD:PUBLISH
X-WR-CALNAME:Hornické muzeum Příbram
X-ORIGINAL-URL:https://www.muzeum-pribram.cz
X-WR-CALDESC:Akce na Hornické muzeum Příbram
BEGIN:VTIMEZONE
TZID:Europe/Prague
BEGIN:DAYLIGHT
TZOFFSETFROM:+0100
TZOFFSETTO:+0200
TZNAME:CEST
DTSTART:20250330T010000
END:DAYLIGHT
BEGIN:STANDARD
TZOFFSETFROM:+0200
TZOFFSETTO:+0100
TZNAME:CET
DTSTART:20251026T010000
END:STANDARD
END:VTIMEZONE
BEGIN:VEVENT
DTSTART;TZID=Europe/Prague:20250719T100000
DTEND;TZID=Europe/Prague:20250719T170000
DTSTAMP:20260425T142623
CREATED:20250321T153917Z
LAST-MODIFIED:20260319T141356Z
UID:7789-1752919200-1752944400@www.muzeum-pribram.cz
SUMMARY:Den řemesel
DESCRIPTION:Představení tradičních řemesel spojených s venkovským hospodářstvím a lidovým stavitelstvím. \n\nAkce nabídne ukázky celé řady tradičních venkovských řemesel – v chalupách i na zápražích potkáte kamnáře\, ševce\, řezbáře\, šindeláře\, přadlenu\, tkadlenu\, krajkářku i košíkáře.  V černé kuchyni v jedné z chalup se bude péct chleba a děti si mohou pochutnat na vlastnoručně vyrobeném perníčku. Přímo pod širým nebem můžete přihlížet kosení trávy a otesávání trámů. V provozu bude tradičně mlýn\, pila i kovárna. Novinkou letošního roku bude vyřezávání tradičních dřevěných forem na výrobu reliéfních perníků. \nI letos se můžete těšit na dva stánky s keramikou\, na drátované výrobky\, dřevěné píšťaly\, medovinu a nově také na bylinné a ovocné sirupy. \nV 11:00 proběhne slavnostní předání titulu Mistr tradiční rukodělné výroby Středočeského kraje paní Renatě Němečkové za výrobu slaměných ošatek. Dále bude předán pamětní list k příležitosti zápisu trampingu na Seznam nemateriálních statků Středočeského kraje. \nObčerstvení zajištěno. Parkování na louce vedle skanzenu je možné za 50 Kč. \nSouběžně se Dnem řemesel probíhá v centru městyse Vysoký Chlumec tradiční komorní festival Folkování v podhradí\, kde vystoupí kapely Naopak\, Isara\, Mrakoplaš\, Eva Blondýna Buková\, Oliver Kolka a Martina Trchtová. \n\nProgram probíhá od 10 do 17 hodin. \nVstupné: 100 Kč dospělí\, 60 Kč děti\, studenti a senioři\, 250 Kč rodinné vstupné \n\n\n		\n		\n			\n				\n			\n			\n				\n			\n			\n				\n			\n			\n				\n			\n			\n				\n			\n			\n				\n			\n			\n				\n			\n			\n				\n			\n		\n\n  \n\nDalší akcí\, kterou by si zájemci o tradiční lidovou kulturu neměli nechat ujít\, jsou Dny lidové architektury Středočeského kraje – bliží informace najdete na přiloženém plakátu zde.
URL:https://www.muzeum-pribram.cz/detail-akce/den-remesel-2025/
LOCATION:Skanzen Vysoký Chlumec\, Vysoký Chlumec\, 26252
CATEGORIES:01 - Akce a výstavy
ATTACH;FMTTYPE=image/jpeg:https://www.muzeum-pribram.cz/wp-content/uploads/2025/03/DSCF0672-scaled-e1751987531165.jpg
END:VEVENT
END:VCALENDAR