BEGIN:VCALENDAR
VERSION:2.0
PRODID:-//Hornické muzeum Příbram - ECPv5.4.0//NONSGML v1.0//EN
CALSCALE:GREGORIAN
METHOD:PUBLISH
X-WR-CALNAME:Hornické muzeum Příbram
X-ORIGINAL-URL:https://www.muzeum-pribram.cz
X-WR-CALDESC:Akce na Hornické muzeum Příbram
BEGIN:VTIMEZONE
TZID:Europe/Prague
BEGIN:DAYLIGHT
TZOFFSETFROM:+0100
TZOFFSETTO:+0200
TZNAME:CEST
DTSTART:20250330T010000
END:DAYLIGHT
BEGIN:STANDARD
TZOFFSETFROM:+0200
TZOFFSETTO:+0100
TZNAME:CET
DTSTART:20251026T010000
END:STANDARD
END:VTIMEZONE
BEGIN:VEVENT
DTSTART;TZID=Europe/Prague:20251214T170000
DTEND;TZID=Europe/Prague:20251214T183000
DTSTAMP:20260425T143736
CREATED:20251007T160125Z
LAST-MODIFIED:20251215T103439Z
UID:8833-1765731600-1765737000@www.muzeum-pribram.cz
SUMMARY:Adventní koncert sborů Arytmie a Gambale
DESCRIPTION:Přijďte si na stříbrnou neděli vydechnout od předvánočního shonu na koncert do Hornického muzea Příbram! \nV neděli 14. 12. 2025 se v cáchovně dolu Anna koná adventní koncert sborů Arytmie Praha a Gambale. Spojení vánočních melodií a prostředí industriální památky slibuje nevšední kulturní zážitek. Vstupné 60 Kč.
URL:https://www.muzeum-pribram.cz/detail-akce/adventni-koncert-sboru-arytmie-a-gambale/
LOCATION:Hornický skanzen Březové Hory – důl Anna\, Husova 274\, Příbram\, 26101
CATEGORIES:01 - Akce a výstavy
ATTACH;FMTTYPE=image/jpeg:https://www.muzeum-pribram.cz/wp-content/uploads/2022/11/Gambale.jpg
END:VEVENT
END:VCALENDAR