BEGIN:VCALENDAR
VERSION:2.0
PRODID:-//Hornické muzeum Příbram - ECPv5.4.0//NONSGML v1.0//EN
CALSCALE:GREGORIAN
METHOD:PUBLISH
X-WR-CALNAME:Hornické muzeum Příbram
X-ORIGINAL-URL:https://www.muzeum-pribram.cz
X-WR-CALDESC:Akce na Hornické muzeum Příbram
BEGIN:VTIMEZONE
TZID:Europe/Prague
BEGIN:DAYLIGHT
TZOFFSETFROM:+0100
TZOFFSETTO:+0200
TZNAME:CEST
DTSTART:20230326T010000
END:DAYLIGHT
BEGIN:STANDARD
TZOFFSETFROM:+0200
TZOFFSETTO:+0100
TZNAME:CET
DTSTART:20231029T010000
END:STANDARD
END:VTIMEZONE
BEGIN:VEVENT
DTSTART;TZID=Europe/Prague:20231211T190000
DTEND;TZID=Europe/Prague:20231211T203000
DTSTAMP:20260425T171028
CREATED:20231101T123112Z
LAST-MODIFIED:20231212T085941Z
UID:4694-1702321200-1702326600@www.muzeum-pribram.cz
SUMMARY:Adventní koncert – Gambale a Bárka
DESCRIPTION:V pondělí 11. 12. se od 19 hodin v cáchovně dolu Anna koná adventní koncert. V nevšedním prostředí industriální památky vystoupí sbor Gambale a kapela Bárka. \nVstupné 60 Kč\, vstupenky se prodávají na místě před koncertem. \n\nPěvecký sbor Gambale datuje svůj zrod k 1. lednu 2013. Vznikl způsobem netypickým a poněkud kuriózním – postupně se posbíral z absolventů několika víkendových kurzů zpěvu. Dnes má sbor 20 stálých členů\, lidí nejrůznějších profesí i osudů\, které drží pohromadě společná vášeň pro souzvuk tónů vytvářených lidským hlasem a srdcem. \nVíce o sboru najdete zde. \n\nKapelu Bárka tvoří violoncellista Pavel Barnáš s harfenistkou Ivanou Pokornou. Oba muzikanti působí desítky let v renomovaných profesionálních orchestrech\, kromě toho si však přáli hrát i skladby podle svého výběru\, a to v malém obsazení\, bez not a dirigentské taktovky. Zaměřují se hlavně na evergreeny a filmové melodie\, které v neobvyklém spojení jejich nástrojů vyznívají velmi působivě. \n„Bárka nabízí plavbu napříč různými žánry s harfou a violoncellem – proplouváme vodami bouřlivými i klidnými a užíváme si radost z hudby\,“ shrnul Pavel Barnáš\, violoncellista Symfonického orchestru Českého rozhlasu v Praze a mj. ředitel festivalu Okolo Třeboně s třicetiletou tradicí. Ivana Pokorná je členkou Orchestru Národního divadla a vždy ráda spolupracovala i s muzikanty z jiných hudebních žánrů. V kapele Bárka hraje na keltskou harfu\, která je menší a lehčí než ta\, kterou používá ve velkém orchestru. \nVíce o kapele najdete zde.
URL:https://www.muzeum-pribram.cz/detail-akce/adventni-koncert-gambale-a-barka/
LOCATION:Hornický skanzen Březové Hory – důl Anna\, Husova 274\, Příbram\, 26101
CATEGORIES:01 - Akce a výstavy
ATTACH;FMTTYPE=image/jpeg:https://www.muzeum-pribram.cz/wp-content/uploads/2023/11/Vanocni-koncert.jpg
END:VEVENT
END:VCALENDAR