BEGIN:VCALENDAR
VERSION:2.0
PRODID:-//Hornické muzeum Příbram - ECPv5.4.0//NONSGML v1.0//EN
CALSCALE:GREGORIAN
METHOD:PUBLISH
X-WR-CALNAME:Hornické muzeum Příbram
X-ORIGINAL-URL:https://www.muzeum-pribram.cz
X-WR-CALDESC:Akce na Hornické muzeum Příbram
BEGIN:VTIMEZONE
TZID:Europe/Prague
BEGIN:DAYLIGHT
TZOFFSETFROM:+0100
TZOFFSETTO:+0200
TZNAME:CEST
DTSTART:20240331T010000
END:DAYLIGHT
BEGIN:STANDARD
TZOFFSETFROM:+0200
TZOFFSETTO:+0100
TZNAME:CET
DTSTART:20241027T010000
END:STANDARD
END:VTIMEZONE
BEGIN:VEVENT
DTSTART;TZID=Europe/Prague:20240712T170000
DTEND;TZID=Europe/Prague:20241027T170000
DTSTAMP:20260425T153613
CREATED:20240621T153234Z
LAST-MODIFIED:20240816T154429Z
UID:6516-1720803600-1730048400@www.muzeum-pribram.cz
SUMMARY:20 let Muzea Špýchar
DESCRIPTION:Naše pobočka Muzeum Špýchar Prostřední Lhota slaví 20 let! Přijďte se podívat na výstavu\, která tyto dvě dekády mapuje. Výstava potrvá do 27. 10. 2024. \nVýstavu pořádá obec Chotilsko\, Rytířský řád Křižovníků s červenou hvězdou\, Římskokatolická farnost Starý Knín\, Veterán klub starostové a Hornické muzeum Příbram. \nSlavnostní zahájení proběhlo v pátek 12. 7. 2024. Program zahájily Benešovské horny pod vedením Jana Slabého\, k poslechu zahrál Fanda Tomášek a přátelé. \n\n		\n		\n			\n				\n			\n				\n				Za zahájení výstavy\n				\n			\n				\n			\n				\n				Za zahájení výstavy\n				\n			\n				\n			\n				\n				Za zahájení výstavy\n				\n			\n				\n			\n				\n				Za zahájení výstavy\n				\n			\n				\n			\n				\n				Za zahájení výstavy
URL:https://www.muzeum-pribram.cz/detail-akce/20-let-muzea-spychar/
LOCATION:Muzeum Špýchar Prostřední Lhota\, Prostřední Lhota 1\, 262 03
CATEGORIES:01 - Akce a výstavy
ATTACH;FMTTYPE=image/png:https://www.muzeum-pribram.cz/wp-content/uploads/2024/06/2-e1720010260834.png
END:VEVENT
END:VCALENDAR